BEGIN:VCALENDAR
VERSION:2.0
PRODID:-//TEAM Ranch - ECPv6.15.18//NONSGML v1.0//EN
CALSCALE:GREGORIAN
METHOD:PUBLISH
X-WR-CALNAME:TEAM Ranch
X-ORIGINAL-URL:https://teamranch.de
X-WR-CALDESC:Veranstaltungen für TEAM Ranch
REFRESH-INTERVAL;VALUE=DURATION:PT1H
X-Robots-Tag:noindex
X-PUBLISHED-TTL:PT1H
BEGIN:VTIMEZONE
TZID:Europe/Berlin
BEGIN:DAYLIGHT
TZOFFSETFROM:+0100
TZOFFSETTO:+0200
TZNAME:CEST
DTSTART:20240331T010000
END:DAYLIGHT
BEGIN:STANDARD
TZOFFSETFROM:+0200
TZOFFSETTO:+0100
TZNAME:CET
DTSTART:20241027T010000
END:STANDARD
BEGIN:DAYLIGHT
TZOFFSETFROM:+0100
TZOFFSETTO:+0200
TZNAME:CEST
DTSTART:20250330T010000
END:DAYLIGHT
BEGIN:STANDARD
TZOFFSETFROM:+0200
TZOFFSETTO:+0100
TZNAME:CET
DTSTART:20251026T010000
END:STANDARD
BEGIN:DAYLIGHT
TZOFFSETFROM:+0100
TZOFFSETTO:+0200
TZNAME:CEST
DTSTART:20260329T010000
END:DAYLIGHT
BEGIN:STANDARD
TZOFFSETFROM:+0200
TZOFFSETTO:+0100
TZNAME:CET
DTSTART:20261025T010000
END:STANDARD
END:VTIMEZONE
BEGIN:VEVENT
DTSTART;TZID=Europe/Berlin:20250315T100000
DTEND;TZID=Europe/Berlin:20250315T120000
DTSTAMP:20260421T180240
CREATED:20250104T141036Z
LAST-MODIFIED:20250219T082142Z
UID:234641-1742032800-1742040000@teamranch.de
SUMMARY:Workshop Selbstliebe
DESCRIPTION:In diesem Kurs geht es vor allem\, um den Wert sich selbst zu lieben. \nOftmals erfahren Kinder und Jugendliche in ihren Entwicklungsphasen herausfordernde Situationen\, welche ihr Selbstwertgefühl und Selbstvertrauen einstürzen lässt. Dies lässt sie meist handlungsunfähig werden\, sodass sich Selbstzweifel manifestieren können. \nDieses Event ist bereits ausgebucht. \nBei Absage oder nicht erscheinen am gleichen Tag\nbleibt die Zahlungspflicht bestehen.
URL:https://teamranch.de/event/workshop-selbstliebe/
CATEGORIES:Events für Kinder
END:VEVENT
END:VCALENDAR