BEGIN:VCALENDAR
VERSION:2.0
PRODID:-//TEAM Ranch - ECPv6.15.18//NONSGML v1.0//EN
CALSCALE:GREGORIAN
METHOD:PUBLISH
X-WR-CALNAME:TEAM Ranch
X-ORIGINAL-URL:https://teamranch.de
X-WR-CALDESC:Veranstaltungen für TEAM Ranch
REFRESH-INTERVAL;VALUE=DURATION:PT1H
X-Robots-Tag:noindex
X-PUBLISHED-TTL:PT1H
BEGIN:VTIMEZONE
TZID:Europe/Berlin
BEGIN:DAYLIGHT
TZOFFSETFROM:+0100
TZOFFSETTO:+0200
TZNAME:CEST
DTSTART:20240331T010000
END:DAYLIGHT
BEGIN:STANDARD
TZOFFSETFROM:+0200
TZOFFSETTO:+0100
TZNAME:CET
DTSTART:20241027T010000
END:STANDARD
BEGIN:DAYLIGHT
TZOFFSETFROM:+0100
TZOFFSETTO:+0200
TZNAME:CEST
DTSTART:20250330T010000
END:DAYLIGHT
BEGIN:STANDARD
TZOFFSETFROM:+0200
TZOFFSETTO:+0100
TZNAME:CET
DTSTART:20251026T010000
END:STANDARD
BEGIN:DAYLIGHT
TZOFFSETFROM:+0100
TZOFFSETTO:+0200
TZNAME:CEST
DTSTART:20260329T010000
END:DAYLIGHT
BEGIN:STANDARD
TZOFFSETFROM:+0200
TZOFFSETTO:+0100
TZNAME:CET
DTSTART:20261025T010000
END:STANDARD
END:VTIMEZONE
BEGIN:VEVENT
DTSTART;TZID=Europe/Berlin:20250628T090000
DTEND;TZID=Europe/Berlin:20250628T110000
DTSTAMP:20260419T150231
CREATED:20250521T082531Z
LAST-MODIFIED:20250521T082531Z
UID:234752-1751101200-1751108400@teamranch.de
SUMMARY:Tierischer Begegnungsmorgen Eltern-Kind/Family
DESCRIPTION:Euch erwartet ein tierisches & naturverbundenes Programm: \n\nKennenlernen der TEAM Ranch und Informationsaustausch\nMöglichkeiten für Picknick\nRanch entdecken\nSpielerische Begegnungen mit den verschiedenen Tieren\nFreies Spielen\nganzheitliches Erleben der Natur und der Tiere auf der Ranch für die ganze Familie\n\nWas Ihr braucht: Dem Wetter angepasste Kleidung und ggf. einen Reithelm/Fahrradhelm \nPreis pro Eltern-Kind-Paar 35€ inkl. MwSt.\nPreis pro Familie 4 Personen 55€ inkl. MwSt.\nAlter: ab dem ersten Lebensjahr\nKein Vorerfahrung notwendig\nBei Absage oder Fernbleiben am selben Tag bleibt eine Gebühr von 50% des Buchungspreises bestehen.
URL:https://teamranch.de/event/tierischer-begegnungsmorgen-eltern-kind-family/
CATEGORIES:Events für Familien,Events für Kinder
END:VEVENT
END:VCALENDAR