BEGIN:VCALENDAR
VERSION:2.0
PRODID:-//TEAM Ranch - ECPv6.15.18//NONSGML v1.0//EN
CALSCALE:GREGORIAN
METHOD:PUBLISH
X-WR-CALNAME:TEAM Ranch
X-ORIGINAL-URL:https://teamranch.de
X-WR-CALDESC:Veranstaltungen für TEAM Ranch
REFRESH-INTERVAL;VALUE=DURATION:PT1H
X-Robots-Tag:noindex
X-PUBLISHED-TTL:PT1H
BEGIN:VTIMEZONE
TZID:Europe/Berlin
BEGIN:DAYLIGHT
TZOFFSETFROM:+0100
TZOFFSETTO:+0200
TZNAME:CEST
DTSTART:20240331T010000
END:DAYLIGHT
BEGIN:STANDARD
TZOFFSETFROM:+0200
TZOFFSETTO:+0100
TZNAME:CET
DTSTART:20241027T010000
END:STANDARD
BEGIN:DAYLIGHT
TZOFFSETFROM:+0100
TZOFFSETTO:+0200
TZNAME:CEST
DTSTART:20250330T010000
END:DAYLIGHT
BEGIN:STANDARD
TZOFFSETFROM:+0200
TZOFFSETTO:+0100
TZNAME:CET
DTSTART:20251026T010000
END:STANDARD
BEGIN:DAYLIGHT
TZOFFSETFROM:+0100
TZOFFSETTO:+0200
TZNAME:CEST
DTSTART:20260329T010000
END:DAYLIGHT
BEGIN:STANDARD
TZOFFSETFROM:+0200
TZOFFSETTO:+0100
TZNAME:CET
DTSTART:20261025T010000
END:STANDARD
END:VTIMEZONE
BEGIN:VEVENT
DTSTART;TZID=Europe/Berlin:20251101T100000
DTEND;TZID=Europe/Berlin:20251101T120000
DTSTAMP:20260421T120856
CREATED:20251007T105904Z
LAST-MODIFIED:20251007T105904Z
UID:234849-1761991200-1761998400@teamranch.de
SUMMARY:Patentreffen unserer lieben TIER-Paten
DESCRIPTION:Unterstütze unsere Arbeit und werde Teil unserer TEAM Ranch Familie \nDu möchtest deine Tierliebe zum Ausdruck bringen?\nDu suchst ein besonderes Geschenk für einen Tierfreund?\nDu wünschst dir schon lange ein eigenes Tier\, aber wirst dem nicht gerecht? \nEine Tierpatenschaft ist die Lösung! Gutes tun und Gutes bekommen. \nDamit Sie Ihr Patentier selbst erleben können\, laden wir Sie zu einem Patentreffen ein. Hier darf das Patentier gekuschelt und versorgt werden. Bestimmt hat Ihr Patentier viel erlebt und wir können Geschichten aus seinem Alltag erzählen. Patentreffen finden nur\, zu im Voraus mitgeteilten festen Terminen statt\, um den Tieren und Ihnen einen geschützten erholsamen Ort des Treffens zu ermöglichen. Spontane Besuche sind daher leider nicht möglich.
URL:https://teamranch.de/event/patentreffen-unserer-lieben-tier-paten/
CATEGORIES:Events für Familien
END:VEVENT
END:VCALENDAR