BEGIN:VCALENDAR
VERSION:2.0
PRODID:-//TEAM Ranch - ECPv6.15.18//NONSGML v1.0//EN
CALSCALE:GREGORIAN
METHOD:PUBLISH
X-WR-CALNAME:TEAM Ranch
X-ORIGINAL-URL:https://teamranch.de
X-WR-CALDESC:Veranstaltungen für TEAM Ranch
REFRESH-INTERVAL;VALUE=DURATION:PT1H
X-Robots-Tag:noindex
X-PUBLISHED-TTL:PT1H
BEGIN:VTIMEZONE
TZID:Europe/Berlin
BEGIN:DAYLIGHT
TZOFFSETFROM:+0100
TZOFFSETTO:+0200
TZNAME:CEST
DTSTART:20240331T010000
END:DAYLIGHT
BEGIN:STANDARD
TZOFFSETFROM:+0200
TZOFFSETTO:+0100
TZNAME:CET
DTSTART:20241027T010000
END:STANDARD
BEGIN:DAYLIGHT
TZOFFSETFROM:+0100
TZOFFSETTO:+0200
TZNAME:CEST
DTSTART:20250330T010000
END:DAYLIGHT
BEGIN:STANDARD
TZOFFSETFROM:+0200
TZOFFSETTO:+0100
TZNAME:CET
DTSTART:20251026T010000
END:STANDARD
BEGIN:DAYLIGHT
TZOFFSETFROM:+0100
TZOFFSETTO:+0200
TZNAME:CEST
DTSTART:20260329T010000
END:DAYLIGHT
BEGIN:STANDARD
TZOFFSETFROM:+0200
TZOFFSETTO:+0100
TZNAME:CET
DTSTART:20261025T010000
END:STANDARD
END:VTIMEZONE
BEGIN:VEVENT
DTSTART;TZID=Europe/Berlin:20250412T100000
DTEND;TZID=Europe/Berlin:20250412T130000
DTSTAMP:20260421T120152
CREATED:20250219T073749Z
LAST-MODIFIED:20250320T080659Z
UID:234670-1744452000-1744462800@teamranch.de
SUMMARY:Ostern auf der TEAM Ranch
DESCRIPTION:Feiert mit uns und den Tieren Ostern auf der TEAM Ranch \n– kreative Basteleinheit zum Thema Ostern\, gestalte dein Andenken \n– eine Osterrallye mit einigen spannenden Aufgaben\, befülle dein Osterkörbchen \n– Zeit mit den Tieren \nBei Absage oder nicht erscheinen am gleichen Tag\nbleibt eine Zahlungspflicht von 50% bestehen.
URL:https://teamranch.de/event/ostern-auf-der-team-ranch/
CATEGORIES:Events für Kinder
END:VEVENT
END:VCALENDAR