BEGIN:VCALENDAR
VERSION:2.0
PRODID:-//TEAM Ranch - ECPv6.15.18//NONSGML v1.0//EN
CALSCALE:GREGORIAN
METHOD:PUBLISH
X-WR-CALNAME:TEAM Ranch
X-ORIGINAL-URL:https://teamranch.de
X-WR-CALDESC:Veranstaltungen für TEAM Ranch
REFRESH-INTERVAL;VALUE=DURATION:PT1H
X-Robots-Tag:noindex
X-PUBLISHED-TTL:PT1H
BEGIN:VTIMEZONE
TZID:Europe/Berlin
BEGIN:DAYLIGHT
TZOFFSETFROM:+0100
TZOFFSETTO:+0200
TZNAME:CEST
DTSTART:20240331T010000
END:DAYLIGHT
BEGIN:STANDARD
TZOFFSETFROM:+0200
TZOFFSETTO:+0100
TZNAME:CET
DTSTART:20241027T010000
END:STANDARD
BEGIN:DAYLIGHT
TZOFFSETFROM:+0100
TZOFFSETTO:+0200
TZNAME:CEST
DTSTART:20250330T010000
END:DAYLIGHT
BEGIN:STANDARD
TZOFFSETFROM:+0200
TZOFFSETTO:+0100
TZNAME:CET
DTSTART:20251026T010000
END:STANDARD
BEGIN:DAYLIGHT
TZOFFSETFROM:+0100
TZOFFSETTO:+0200
TZNAME:CEST
DTSTART:20260329T010000
END:DAYLIGHT
BEGIN:STANDARD
TZOFFSETFROM:+0200
TZOFFSETTO:+0100
TZNAME:CET
DTSTART:20261025T010000
END:STANDARD
END:VTIMEZONE
BEGIN:VEVENT
DTSTART;TZID=Europe/Berlin:20250712T100000
DTEND;TZID=Europe/Berlin:20250712T120000
DTSTAMP:20260421T120403
CREATED:20250521T083934Z
LAST-MODIFIED:20250521T083934Z
UID:234756-1752314400-1752321600@teamranch.de
SUMMARY:Offene Stunde TierErlebnis
DESCRIPTION:Tier Erlebnis Kinder ab 5 Jahren von 11:00 – 12:00 Uhr \nzum Beispiel \n\nPflege & Versorgung der Tiere\nSpielerisches Wissen in Theorie und Praxis z.B. über Pferde/ Hunde/ Schweine\nKörperorientierte Übungen auf und mit den Pferden\nAlters- und entwicklungsentsprechende Begegnung mit den Tieren\nganzheitliches Erleben der Natur und Tiere auf der Ranch\n\n  \nTier Erlebnis Mini Kinder bis 4 Jahre von 10:00 – 11:00 Uhr \nHier erleben die Kleinen zusammen mit einem Elternteil die spielerische Begegnung mit den Tieren\, entdecken die Ranch und haben die Möglichkeit gemeinsam Zeit mit den Tieren der Ranch zu verbringen. \nKeine Pferdeerfahrung notwendig \nBei Absage oder Fernbleiben am selben Tag bleibt die Zahlungspflicht bestehen.
URL:https://teamranch.de/event/offene-stunde-tiererlebnis/
CATEGORIES:Events für Familien,Events für Kinder
END:VEVENT
END:VCALENDAR