BEGIN:VCALENDAR
VERSION:2.0
PRODID:-//TEAM Ranch - ECPv6.15.18//NONSGML v1.0//EN
CALSCALE:GREGORIAN
METHOD:PUBLISH
X-WR-CALNAME:TEAM Ranch
X-ORIGINAL-URL:https://teamranch.de
X-WR-CALDESC:Veranstaltungen für TEAM Ranch
REFRESH-INTERVAL;VALUE=DURATION:PT1H
X-Robots-Tag:noindex
X-PUBLISHED-TTL:PT1H
BEGIN:VTIMEZONE
TZID:Europe/Berlin
BEGIN:DAYLIGHT
TZOFFSETFROM:+0100
TZOFFSETTO:+0200
TZNAME:CEST
DTSTART:20250330T010000
END:DAYLIGHT
BEGIN:STANDARD
TZOFFSETFROM:+0200
TZOFFSETTO:+0100
TZNAME:CET
DTSTART:20251026T010000
END:STANDARD
BEGIN:DAYLIGHT
TZOFFSETFROM:+0100
TZOFFSETTO:+0200
TZNAME:CEST
DTSTART:20260329T010000
END:DAYLIGHT
BEGIN:STANDARD
TZOFFSETFROM:+0200
TZOFFSETTO:+0100
TZNAME:CET
DTSTART:20261025T010000
END:STANDARD
BEGIN:DAYLIGHT
TZOFFSETFROM:+0100
TZOFFSETTO:+0200
TZNAME:CEST
DTSTART:20270328T010000
END:DAYLIGHT
BEGIN:STANDARD
TZOFFSETFROM:+0200
TZOFFSETTO:+0100
TZNAME:CET
DTSTART:20271031T010000
END:STANDARD
END:VTIMEZONE
BEGIN:VEVENT
DTSTART;TZID=Europe/Berlin:20260509T100000
DTEND;TZID=Europe/Berlin:20260509T120000
DTSTAMP:20260421T132455
CREATED:20260420T113219Z
LAST-MODIFIED:20260420T113219Z
UID:234960-1778320800-1778328000@teamranch.de
SUMMARY:Offene Stunde / Tiererlebnis
DESCRIPTION:Hier erleben die Kinder spielerische Begegnung mit den Tieren\, entdecken die Ranch und haben die Möglichkeit gemeinsam Zeit mit den Tieren zu verbringen. \nFür die Minis (Kinder bis 4 Jahre in Begleitung eines Erwachsenen) \nUhrzeit von: 10:00 – 11:00 Uhr \nPreis pro Kind 25\,00€(Begleitperson frei) \nFür Kinder ab 5 Jahren \nUhrzeit von 11:00-12:00 Uhr \nPreis pro Kind 25\,00€ \nKeine Vorerfahunrg notwendig. Wir freuen uns auf Euch! \nAmeldung unter: Info@teamranch.de \nBei Absage oder Fernbleiben am selben Tag bleibt eine Gebühr von 50% des Buchungspreises bestehen.
URL:https://teamranch.de/event/offene-stunde-tiererlebnis-4/
CATEGORIES:Events für Familien,Events für Kinder
END:VEVENT
END:VCALENDAR