BEGIN:VCALENDAR
VERSION:2.0
PRODID:-//TEAM Ranch - ECPv6.15.18//NONSGML v1.0//EN
CALSCALE:GREGORIAN
METHOD:PUBLISH
X-WR-CALNAME:TEAM Ranch
X-ORIGINAL-URL:https://teamranch.de
X-WR-CALDESC:Veranstaltungen für TEAM Ranch
REFRESH-INTERVAL;VALUE=DURATION:PT1H
X-Robots-Tag:noindex
X-PUBLISHED-TTL:PT1H
BEGIN:VTIMEZONE
TZID:Europe/Berlin
BEGIN:DAYLIGHT
TZOFFSETFROM:+0100
TZOFFSETTO:+0200
TZNAME:CEST
DTSTART:20230326T010000
END:DAYLIGHT
BEGIN:STANDARD
TZOFFSETFROM:+0200
TZOFFSETTO:+0100
TZNAME:CET
DTSTART:20231029T010000
END:STANDARD
BEGIN:DAYLIGHT
TZOFFSETFROM:+0100
TZOFFSETTO:+0200
TZNAME:CEST
DTSTART:20240331T010000
END:DAYLIGHT
BEGIN:STANDARD
TZOFFSETFROM:+0200
TZOFFSETTO:+0100
TZNAME:CET
DTSTART:20241027T010000
END:STANDARD
BEGIN:DAYLIGHT
TZOFFSETFROM:+0100
TZOFFSETTO:+0200
TZNAME:CEST
DTSTART:20250330T010000
END:DAYLIGHT
BEGIN:STANDARD
TZOFFSETFROM:+0200
TZOFFSETTO:+0100
TZNAME:CET
DTSTART:20251026T010000
END:STANDARD
END:VTIMEZONE
BEGIN:VEVENT
DTSTART;TZID=Europe/Berlin:20241116T143000
DTEND;TZID=Europe/Berlin:20241116T173000
DTSTAMP:20260424T115032
CREATED:20241018T072057Z
LAST-MODIFIED:20241018T072057Z
UID:234608-1731767400-1731778200@teamranch.de
SUMMARY:Lichterfest auf der TEAM Ranch
DESCRIPTION:Euch erwartet ein kreatives Angebot in Einbezug unserer Tiere und der Natur.
URL:https://teamranch.de/event/lichterfest-auf-der-team-ranch/
CATEGORIES:Events für Kinder
END:VEVENT
END:VCALENDAR