BEGIN:VCALENDAR
VERSION:2.0
PRODID:-//TEAM Ranch - ECPv6.15.18//NONSGML v1.0//EN
CALSCALE:GREGORIAN
METHOD:PUBLISH
X-WR-CALNAME:TEAM Ranch
X-ORIGINAL-URL:https://teamranch.de
X-WR-CALDESC:Veranstaltungen für TEAM Ranch
REFRESH-INTERVAL;VALUE=DURATION:PT1H
X-Robots-Tag:noindex
X-PUBLISHED-TTL:PT1H
BEGIN:VTIMEZONE
TZID:Europe/Berlin
BEGIN:DAYLIGHT
TZOFFSETFROM:+0100
TZOFFSETTO:+0200
TZNAME:CEST
DTSTART:20240331T010000
END:DAYLIGHT
BEGIN:STANDARD
TZOFFSETFROM:+0200
TZOFFSETTO:+0100
TZNAME:CET
DTSTART:20241027T010000
END:STANDARD
BEGIN:DAYLIGHT
TZOFFSETFROM:+0100
TZOFFSETTO:+0200
TZNAME:CEST
DTSTART:20250330T010000
END:DAYLIGHT
BEGIN:STANDARD
TZOFFSETFROM:+0200
TZOFFSETTO:+0100
TZNAME:CET
DTSTART:20251026T010000
END:STANDARD
BEGIN:DAYLIGHT
TZOFFSETFROM:+0100
TZOFFSETTO:+0200
TZNAME:CEST
DTSTART:20260329T010000
END:DAYLIGHT
BEGIN:STANDARD
TZOFFSETFROM:+0200
TZOFFSETTO:+0100
TZNAME:CET
DTSTART:20261025T010000
END:STANDARD
END:VTIMEZONE
BEGIN:VEVENT
DTSTART;TZID=Europe/Berlin:20250705T090000
DTEND;TZID=Europe/Berlin:20250705T120000
DTSTAMP:20260419T163935
CREATED:20250521T085341Z
LAST-MODIFIED:20250521T085341Z
UID:234765-1751706000-1751716800@teamranch.de
SUMMARY:Eltern-Kind-Stunde
DESCRIPTION:Einheiten von: \n09:00 – 10:00 Uhr \n10:00 – 11:00 Uhr \n11:00 – 12:00 Uhr \nIn diesem Kurs geht es vor allem\, um das gemeinsame Erleben von den Pferden\, die Stärkung der Beziehung zwischen Eltern und Kindern sowie\nErlebnisse zu schaffen. \nSpielerisch und altersentsprechend die Pferde kennenlernen:\nFutterzubereitung\nGemeinsame Pflege der Pferde\nReiten/ Führen (je nach Gewicht gemeinsames Reiten möglich) \nBegrenzte Plätze pro Einheit / Alter auf Anfrage \nBei Absage oder nicht erscheinen am gleichen Tag\nbleibt die Zahlungspflicht bestehen.
URL:https://teamranch.de/event/eltern-kind-stunde-8/
CATEGORIES:Events für Familien,Events für Kinder
END:VEVENT
END:VCALENDAR